BEGIN:VCALENDAR
VERSION:2.0
PRODID:-//Milwaukee Widows or Widowers (WOW) Club - ECPv6.15.20//NONSGML v1.0//EN
CALSCALE:GREGORIAN
METHOD:PUBLISH
X-WR-CALNAME:Milwaukee Widows or Widowers (WOW) Club
X-ORIGINAL-URL:https://www.milwwowclub.info
X-WR-CALDESC:Events for Milwaukee Widows or Widowers (WOW) Club
REFRESH-INTERVAL;VALUE=DURATION:PT1H
X-Robots-Tag:noindex
X-PUBLISHED-TTL:PT1H
BEGIN:VTIMEZONE
TZID:America/Chicago
BEGIN:DAYLIGHT
TZOFFSETFROM:-0600
TZOFFSETTO:-0500
TZNAME:CDT
DTSTART:20240310T080000
END:DAYLIGHT
BEGIN:STANDARD
TZOFFSETFROM:-0500
TZOFFSETTO:-0600
TZNAME:CST
DTSTART:20241103T070000
END:STANDARD
BEGIN:DAYLIGHT
TZOFFSETFROM:-0600
TZOFFSETTO:-0500
TZNAME:CDT
DTSTART:20250309T080000
END:DAYLIGHT
BEGIN:STANDARD
TZOFFSETFROM:-0500
TZOFFSETTO:-0600
TZNAME:CST
DTSTART:20251102T070000
END:STANDARD
BEGIN:DAYLIGHT
TZOFFSETFROM:-0600
TZOFFSETTO:-0500
TZNAME:CDT
DTSTART:20260308T080000
END:DAYLIGHT
BEGIN:STANDARD
TZOFFSETFROM:-0500
TZOFFSETTO:-0600
TZNAME:CST
DTSTART:20261101T070000
END:STANDARD
END:VTIMEZONE
BEGIN:VEVENT
DTSTART;TZID=America/Chicago:20250527T100000
DTEND;TZID=America/Chicago:20250527T100000
DTSTAMP:20260419T103753
CREATED:20250331T235001Z
LAST-MODIFIED:20250513T105506Z
UID:5168-1748340000-1748340000@www.milwwowclub.info
SUMMARY:Bike Riding The Hank Aaron Trail
DESCRIPTION:Meet behind the Elm Grove Sendik’s store. We will be riding along the Hank Aaron Trail. Our goal is to get outside\, get a little exercise and have fun doing it! Bike at your own pace and distance. No need to sign up. Many times we stop for lunch along the ride route or afterwards. Contact event organizer with questions. (Happens the second and fourth Tuesday of the month\, May through September\, weather permitting) \nThis map shows the location of where we will meet and park our vehicles\, circled in red:
URL:https://www.milwwowclub.info/event/bike-riding-may-27-2025/
LOCATION:Sendik’s Elm Grove\, 13425 Watertown Plank Road\, Elm Grove\, WI\, 53122
ATTACH;FMTTYPE=image/jpeg:https://www.milwwowclub.info/wp-content/uploads/2025/03/Beautiful-Maryland-Bike-Trails-GAP-DRiegner-1.jpg
ORGANIZER;CN="Dave Hoag":MAILTO:bosshoag@gmail.com
END:VEVENT
BEGIN:VEVENT
DTSTART;TZID=America/Chicago:20250527T140000
DTEND;TZID=America/Chicago:20250527T163000
DTSTAMP:20260419T103753
CREATED:20250320T193013Z
LAST-MODIFIED:20250514T115110Z
UID:5078-1748354400-1748363400@www.milwwowclub.info
SUMMARY:Taco Tuesday & Bingo!
DESCRIPTION:Bingo and Taco Tuesday in one fun event! Chicken or Beef Tacos are just $2.50 each\, or order off the lunch menu. Sign-up with hosts prior to event (Kim 608-220-1536 or kimkorth.21@gmail.com or Lynn 262-378-9477 or lynn.powers66@gmail.com). PLEASE BE READY TO ORDER YOUR FOOD WHEN YOU CHECK IN AT EVENT. This will speed up the process and give us more time for Bingo. Bingo starts after 2:30pm. Games are determined by number of players. Most games will be $1.00 per card; Maximum 3 cards; Last game $2/card\, max 2 cards/person. Contact event organizer wtih any questions. \n 
URL:https://www.milwwowclub.info/event/taco-tuesday-bingo-may-27-2025/
LOCATION:Bullwinkle’s at the Galleria\, 18900 W Bluemound Rd\, Brookfield\, WI\, 53045
ATTACH;FMTTYPE=image/jpeg:https://www.milwwowclub.info/wp-content/uploads/2025/02/PXL_20240826_122030416.MP2_.jpg
ORGANIZER;CN="Kim Korth":MAILTO:kimkorth.21@gmail.com
END:VEVENT
END:VCALENDAR