BEGIN:VCALENDAR
VERSION:2.0
PRODID:-//Milwaukee Widows or Widowers (WOW) Club - ECPv6.15.20//NONSGML v1.0//EN
CALSCALE:GREGORIAN
METHOD:PUBLISH
X-ORIGINAL-URL:https://www.milwwowclub.info
X-WR-CALDESC:Events for Milwaukee Widows or Widowers (WOW) Club
REFRESH-INTERVAL;VALUE=DURATION:PT1H
X-Robots-Tag:noindex
X-PUBLISHED-TTL:PT1H
BEGIN:VTIMEZONE
TZID:America/Chicago
BEGIN:DAYLIGHT
TZOFFSETFROM:-0600
TZOFFSETTO:-0500
TZNAME:CDT
DTSTART:20240310T080000
END:DAYLIGHT
BEGIN:STANDARD
TZOFFSETFROM:-0500
TZOFFSETTO:-0600
TZNAME:CST
DTSTART:20241103T070000
END:STANDARD
BEGIN:DAYLIGHT
TZOFFSETFROM:-0600
TZOFFSETTO:-0500
TZNAME:CDT
DTSTART:20250309T080000
END:DAYLIGHT
BEGIN:STANDARD
TZOFFSETFROM:-0500
TZOFFSETTO:-0600
TZNAME:CST
DTSTART:20251102T070000
END:STANDARD
BEGIN:DAYLIGHT
TZOFFSETFROM:-0600
TZOFFSETTO:-0500
TZNAME:CDT
DTSTART:20260308T080000
END:DAYLIGHT
BEGIN:STANDARD
TZOFFSETFROM:-0500
TZOFFSETTO:-0600
TZNAME:CST
DTSTART:20261101T070000
END:STANDARD
END:VTIMEZONE
BEGIN:VEVENT
DTSTART;TZID=America/Chicago:20250607T180000
DTEND;TZID=America/Chicago:20250607T200000
DTSTAMP:20260419T103734
CREATED:20241003T133027Z
LAST-MODIFIED:20250529T224609Z
UID:4395-1749319200-1749326400@www.milwwowclub.info
SUMMARY:"The Chosen" Drama Series Watch Party
DESCRIPTION:The Chosen is the first ever multi-season\, historical Christian drama series about the most revolutionary person in history\, Jesus Christ\, and those who knew him. Set against the backdrop of the Roman oppression of first-century Israel\, the series shares an authentic and intimate look at Jesus’ life and teachings. This night we will view Season 2\, episodes 4 & 5. Come for the fellowship\, stay for the show! Bring a snack to share and a beverage of your choice. The main lobby (large building) is locked\, so please arrive between 5:45pm and 6:15pm. Contact Mary Piekarski with questions (414-828-9222 OR mbpiekarski@gmail.com). (Happens the 1st Saturday of every month). \n\n(Every first Saturday of the month)
URL:https://www.milwwowclub.info/event/the-chosen-drama-series-watch-party-8/
LOCATION:Highlands at Aero Park\, W197N4950 Hickory St\, Menomonee Falls\, WI\, 53051
ATTACH;FMTTYPE=image/png:https://www.milwwowclub.info/wp-content/uploads/2024/10/The_Chosen.png
ORGANIZER;CN="Mary Piekarski":MAILTO:wowclubwi@gmail.com
END:VEVENT
END:VCALENDAR