BEGIN:VCALENDAR
VERSION:2.0
PRODID:-//Milwaukee Widows or Widowers (WOW) Club - ECPv6.15.20//NONSGML v1.0//EN
CALSCALE:GREGORIAN
METHOD:PUBLISH
X-ORIGINAL-URL:https://www.milwwowclub.info
X-WR-CALDESC:Events for Milwaukee Widows or Widowers (WOW) Club
REFRESH-INTERVAL;VALUE=DURATION:PT1H
X-Robots-Tag:noindex
X-PUBLISHED-TTL:PT1H
BEGIN:VTIMEZONE
TZID:America/Chicago
BEGIN:DAYLIGHT
TZOFFSETFROM:-0600
TZOFFSETTO:-0500
TZNAME:CDT
DTSTART:20240310T080000
END:DAYLIGHT
BEGIN:STANDARD
TZOFFSETFROM:-0500
TZOFFSETTO:-0600
TZNAME:CST
DTSTART:20241103T070000
END:STANDARD
BEGIN:DAYLIGHT
TZOFFSETFROM:-0600
TZOFFSETTO:-0500
TZNAME:CDT
DTSTART:20250309T080000
END:DAYLIGHT
BEGIN:STANDARD
TZOFFSETFROM:-0500
TZOFFSETTO:-0600
TZNAME:CST
DTSTART:20251102T070000
END:STANDARD
BEGIN:DAYLIGHT
TZOFFSETFROM:-0600
TZOFFSETTO:-0500
TZNAME:CDT
DTSTART:20260308T080000
END:DAYLIGHT
BEGIN:STANDARD
TZOFFSETFROM:-0500
TZOFFSETTO:-0600
TZNAME:CST
DTSTART:20261101T070000
END:STANDARD
END:VTIMEZONE
BEGIN:VEVENT
DTSTART;TZID=America/Chicago:20250620T130000
DTEND;TZID=America/Chicago:20250620T130000
DTSTAMP:20260419T103737
CREATED:20250426T124819Z
LAST-MODIFIED:20250611T170441Z
UID:5336-1750424400-1750424400@www.milwwowclub.info
SUMMARY:Golf
DESCRIPTION:Come and play a round of golf with your fellow WOW members! We will be golfing at Greenfield Park golf course in the Milwaukee County park system. The cost for 9 holes and a cart for golfers holding a county discount card is $27; Cost without a discount card is $34 . \nPlease let the organizer know if you will be golfing 8 days prior to the golf date so he can make adequate reservations. Call Dave at 414-425-8519 or 414-712-4513 with questions and/or to reserve your spot. \nThis event will happen the 1st and 3rd Fridays in May\, June\, August and September and the 2nd and 4th Fridays in July (due to the 4th of July holiday).
URL:https://www.milwwowclub.info/event/golf-june-20-2025-2/
LOCATION:Greenfield Park Golf Course\, 12035 W Greenfield Ave\, West Allis\, WI\, 53214
ATTACH;FMTTYPE=image/png:https://www.milwwowclub.info/wp-content/uploads/2025/02/Screenshot-2025-02-16-143907.png
ORGANIZER;CN="Dave Zuehlke":MAILTO:davzee.dz@gmail.com
END:VEVENT
BEGIN:VEVENT
DTSTART;TZID=America/Chicago:20250620T163000
DTEND;TZID=America/Chicago:20250620T163000
DTSTAMP:20260419T103737
CREATED:20250408T230521Z
LAST-MODIFIED:20250604T183144Z
UID:5187-1750437000-1750437000@www.milwwowclub.info
SUMMARY:June Fish Fry - SORRY\, REGISTRATION IS FULL!
DESCRIPTION:Entre’ choices are Beer Battered Cod $20 (with choice of fries or potato pancakes); Baked Cod $20 (with choice of fries or potato pancakes); or Blackened Walleye w/Vegetable $29 (with choice of fries or baked potato). All dinners include marble rye & butter\, coleslaw and tartar sauce. Prices include tax & gratuity. Seating is limited to 40 guests. Use Registration form below. Deadline for registration is June 10th –  SORRY\, NO LATE REGISTRATIONS WILL BE ACCEPTED\, NO EXCEPTIONS! Contact event host with questions. \nJUNE FISH FRY REGISTRATION FORM
URL:https://www.milwwowclub.info/event/june-fish-fry/
LOCATION:Schmidty’s Bar & Grill\, 16755 W Lisbon Rd\, Brookfield\, WI\, 53005\, United States
ATTACH;FMTTYPE=image/jpeg:https://www.milwwowclub.info/wp-content/uploads/2025/04/unnamed.jpg
ORGANIZER;CN="Elsie Dircks":MAILTO:eldirx@mac.com
END:VEVENT
END:VCALENDAR