BEGIN:VCALENDAR
VERSION:2.0
PRODID:-//Milwaukee Widows or Widowers (WOW) Club - ECPv6.15.20//NONSGML v1.0//EN
CALSCALE:GREGORIAN
METHOD:PUBLISH
X-ORIGINAL-URL:https://www.milwwowclub.info
X-WR-CALDESC:Events for Milwaukee Widows or Widowers (WOW) Club
REFRESH-INTERVAL;VALUE=DURATION:PT1H
X-Robots-Tag:noindex
X-PUBLISHED-TTL:PT1H
BEGIN:VTIMEZONE
TZID:America/Chicago
BEGIN:DAYLIGHT
TZOFFSETFROM:-0600
TZOFFSETTO:-0500
TZNAME:CDT
DTSTART:20240310T080000
END:DAYLIGHT
BEGIN:STANDARD
TZOFFSETFROM:-0500
TZOFFSETTO:-0600
TZNAME:CST
DTSTART:20241103T070000
END:STANDARD
BEGIN:DAYLIGHT
TZOFFSETFROM:-0600
TZOFFSETTO:-0500
TZNAME:CDT
DTSTART:20250309T080000
END:DAYLIGHT
BEGIN:STANDARD
TZOFFSETFROM:-0500
TZOFFSETTO:-0600
TZNAME:CST
DTSTART:20251102T070000
END:STANDARD
BEGIN:DAYLIGHT
TZOFFSETFROM:-0600
TZOFFSETTO:-0500
TZNAME:CDT
DTSTART:20260308T080000
END:DAYLIGHT
BEGIN:STANDARD
TZOFFSETFROM:-0500
TZOFFSETTO:-0600
TZNAME:CST
DTSTART:20261101T070000
END:STANDARD
END:VTIMEZONE
BEGIN:VEVENT
DTSTART;TZID=America/Chicago:20250625T120000
DTEND;TZID=America/Chicago:20250625T140000
DTSTAMP:20260419T091249
CREATED:20250426T124534Z
LAST-MODIFIED:20250426T124613Z
UID:5332-1750852800-1750860000@www.milwwowclub.info
SUMMARY:Pickleball
DESCRIPTION:Pickleball is a low-impact sport that combines tennis\, badminton\, and ping-pong on a smaller court\, making it accessible for people of all ages and skill levels. If you’ve never played Pickleball there’s good news! Come an hour prior to game-time to attend “Camp Carl.” Camp Carl is offered in honor of WOW’s late-pickleball founder\, Carl Fisher\, and will focus on familiarizing newbies with the rules and techniques of the game as well as give experienced players a chance to brush-up on their skills! NOTE: Camp Carl begins at 11:00am. \nRegular play will begin at 12:00 Noon. Bring your own pickleball paddle and outdoor pickleballs\, if you have them. There will be some outdoor pickleballs on hand. Everyone is strongly encouraged to bring their own water bottles and/or electrolyte drink and a lawn chair\, if desired. \nHappens every Wednesday from May to mid-October\, weather permitting. Contact event organizer with any questions. In case of inclement weather\, check email notifications and/or the website for updates.
URL:https://www.milwwowclub.info/event/pickleball-june-25-2025/
LOCATION:Oakwood Park\, Dennis Droese Dr\, Menomonee Falls\, WI
ATTACH;FMTTYPE=image/png:https://www.milwwowclub.info/wp-content/uploads/2025/03/Screenshot-2025-03-16-161141.png
ORGANIZER;CN="Sue Siewert":MAILTO:sue.siewert55@gmail.com
END:VEVENT
BEGIN:VEVENT
DTSTART;TZID=America/Chicago:20250625T183000
DTEND;TZID=America/Chicago:20250625T213000
DTSTAMP:20260419T091249
CREATED:20250319T203706Z
LAST-MODIFIED:20250512T115805Z
UID:5068-1750876200-1750887000@www.milwwowclub.info
SUMMARY:General Meeting and Social Gathering
DESCRIPTION:Following the short meeting\, enjoy the return of Peppermill Music. MC Tony is back! The theme for this gathering will be “DANCING THROUGH THE DECADES.” You’ll enjoy the same music that got your toes to do some tapping in your youth\, and still does today! Members are encouraged to dress up in the garb of their favorite decade of music…..50’s…60’s….70’s….80’s…..90’s….. and early 2000’s. Tony and friends will also lead us in a couple of line dances like The Stroll\, Limbo Rock\, Electric Slide. As before members can bring treats and decorations for the tables to share at the event. Use your imagination…. and let’s have FUN.!!! \nNOTE: Water is provided; other beverages may be purchased. The bar accepts cash only. There is an ATM is on site. \n\n(The General Membership Meeting occurs every fourth Wednesday\, and is open to all WOW members and their guests. Entertainment follows the meeting. There is a $10.00 fee for second time guests.)
URL:https://www.milwwowclub.info/event/general-meeting-and-social-gathering-june-2025/
LOCATION:Hoeppner-Horn Bros VFW Post 5716\, 17980 W Beloit Rd\, New Berlin\, WI\, 53146
ATTACH;FMTTYPE=image/jpeg:https://www.milwwowclub.info/wp-content/uploads/2025/03/Tony-M-1.jpg
END:VEVENT
END:VCALENDAR