BEGIN:VCALENDAR
VERSION:2.0
PRODID:-//Milwaukee Widows or Widowers (WOW) Club - ECPv6.15.20//NONSGML v1.0//EN
CALSCALE:GREGORIAN
METHOD:PUBLISH
X-ORIGINAL-URL:https://www.milwwowclub.info
X-WR-CALDESC:Events for Milwaukee Widows or Widowers (WOW) Club
REFRESH-INTERVAL;VALUE=DURATION:PT1H
X-Robots-Tag:noindex
X-PUBLISHED-TTL:PT1H
BEGIN:VTIMEZONE
TZID:America/Chicago
BEGIN:DAYLIGHT
TZOFFSETFROM:-0600
TZOFFSETTO:-0500
TZNAME:CDT
DTSTART:20240310T080000
END:DAYLIGHT
BEGIN:STANDARD
TZOFFSETFROM:-0500
TZOFFSETTO:-0600
TZNAME:CST
DTSTART:20241103T070000
END:STANDARD
BEGIN:DAYLIGHT
TZOFFSETFROM:-0600
TZOFFSETTO:-0500
TZNAME:CDT
DTSTART:20250309T080000
END:DAYLIGHT
BEGIN:STANDARD
TZOFFSETFROM:-0500
TZOFFSETTO:-0600
TZNAME:CST
DTSTART:20251102T070000
END:STANDARD
BEGIN:DAYLIGHT
TZOFFSETFROM:-0600
TZOFFSETTO:-0500
TZNAME:CDT
DTSTART:20260308T080000
END:DAYLIGHT
BEGIN:STANDARD
TZOFFSETFROM:-0500
TZOFFSETTO:-0600
TZNAME:CST
DTSTART:20261101T070000
END:STANDARD
END:VTIMEZONE
BEGIN:VEVENT
DTSTART;TZID=America/Chicago:20250708T100000
DTEND;TZID=America/Chicago:20250708T100000
DTSTAMP:20260419T103734
CREATED:20250426T152941Z
LAST-MODIFIED:20250613T224817Z
UID:5390-1751968800-1751968800@www.milwwowclub.info
SUMMARY:Bike Riding - Oak Leaf Trail
DESCRIPTION:Our goal is to get outside\, get a little exercise and have fun doing it! We will be riding along the Oak Leaf Trail. Bike at your own pace and distance. No need to sign up. Many times we stop for lunch along the ride route or afterwards. Contact event organizer with questions. (Happens the second and fourth Tuesday of the month\, May through September\, weather permitting) \n 
URL:https://www.milwwowclub.info/event/bike-riding-july-8-2025/
LOCATION:Grant Park Clubhouse\, 100 East Hawthorne Ave\, South Milwaukee\, WI\, 53172
ATTACH;FMTTYPE=image/jpeg:https://www.milwwowclub.info/wp-content/uploads/2025/03/Beautiful-Maryland-Bike-Trails-GAP-DRiegner-1.jpg
ORGANIZER;CN="Dave Hoag":MAILTO:bosshoag@gmail.com
END:VEVENT
BEGIN:VEVENT
DTSTART;TZID=America/Chicago:20250708T190000
DTEND;TZID=America/Chicago:20250708T190000
DTSTAMP:20260419T103734
CREATED:20250304T202948Z
LAST-MODIFIED:20250529T225328Z
UID:5013-1752001200-1752001200@www.milwwowclub.info
SUMMARY:Tribute Tuesday Concert - Journey
DESCRIPTION:This free concert series brings top-tier tribute bands to the Les Paul Performance Center at Cutler Park in Waukesha\, delivering the sounds of legendary artists in a beautiful outdoor setting. \nSeparate Ways is a 6-piece tribute to one of the 80’s most influential bands—JOURNEY! Built around an arsenal of multiple WAMI (Wisconsin “Grammy”) award-winning musicians\, including the 2015 male vocalist of the year Paul Lent\, “SEPARATE WAYS” incorporates forceful vocals with dynamic players\, who together recreate the JOURNEY sound that we all love. \nConcessions open at 5:30 p.m. Food trucks\, beer\, wine & other beverages will be available (sorry\, no alcoholic beverages may be carried in\, however\, carry-in food items are allowed). We will sit in a group – so bring your lawn chair & just look for the WOW flag. Show starts at 7:00 p.m. \nPlease note: City Ordinance 11.27(4)(a) prohibits the carry-in of alcohol. No dogs allowed in the park per City Ordinance 33.02(6).
URL:https://www.milwwowclub.info/event/tribute-tuesday-concert-journey/
LOCATION:Les Paul Performance Center\, 321 Wisconsin Ave\, Waukesha\, WI\, 53186
ATTACH;FMTTYPE=image/png:https://www.milwwowclub.info/wp-content/uploads/2025/03/Screenshot-2025-03-04-142900.png
ORGANIZER;CN="Mary Piekarski":MAILTO:wowclubwi@gmail.com
END:VEVENT
END:VCALENDAR