BEGIN:VCALENDAR
VERSION:2.0
PRODID:-//Milwaukee Widows or Widowers (WOW) Club - ECPv6.15.20//NONSGML v1.0//EN
CALSCALE:GREGORIAN
METHOD:PUBLISH
X-ORIGINAL-URL:https://www.milwwowclub.info
X-WR-CALDESC:Events for Milwaukee Widows or Widowers (WOW) Club
REFRESH-INTERVAL;VALUE=DURATION:PT1H
X-Robots-Tag:noindex
X-PUBLISHED-TTL:PT1H
BEGIN:VTIMEZONE
TZID:America/Chicago
BEGIN:DAYLIGHT
TZOFFSETFROM:-0600
TZOFFSETTO:-0500
TZNAME:CDT
DTSTART:20240310T080000
END:DAYLIGHT
BEGIN:STANDARD
TZOFFSETFROM:-0500
TZOFFSETTO:-0600
TZNAME:CST
DTSTART:20241103T070000
END:STANDARD
BEGIN:DAYLIGHT
TZOFFSETFROM:-0600
TZOFFSETTO:-0500
TZNAME:CDT
DTSTART:20250309T080000
END:DAYLIGHT
BEGIN:STANDARD
TZOFFSETFROM:-0500
TZOFFSETTO:-0600
TZNAME:CST
DTSTART:20251102T070000
END:STANDARD
BEGIN:DAYLIGHT
TZOFFSETFROM:-0600
TZOFFSETTO:-0500
TZNAME:CDT
DTSTART:20260308T080000
END:DAYLIGHT
BEGIN:STANDARD
TZOFFSETFROM:-0500
TZOFFSETTO:-0600
TZNAME:CST
DTSTART:20261101T070000
END:STANDARD
END:VTIMEZONE
BEGIN:VEVENT
DTSTART;TZID=America/Chicago:20250722T100000
DTEND;TZID=America/Chicago:20250722T100000
DTSTAMP:20260419T091240
CREATED:20250426T153037Z
LAST-MODIFIED:20250613T224948Z
UID:5392-1753178400-1753178400@www.milwwowclub.info
SUMMARY:Bike Riding - Oak Leaf Trail
DESCRIPTION:Our goal is to get outside\, get a little exercise and have fun doing it! We will be riding along the Oak Leaf Trail Bike at your own pace and distance. No need to sign up. Many times we stop for lunch along the ride route or afterwards. Contact event organizer with questions. (Happens the second and fourth Tuesday of the month\, May through September\, weather permitting) \n 
URL:https://www.milwwowclub.info/event/bike-riding-july-22-2025/
LOCATION:Grant Park Clubhouse\, 100 East Hawthorne Ave\, South Milwaukee\, WI\, 53172
ATTACH;FMTTYPE=image/jpeg:https://www.milwwowclub.info/wp-content/uploads/2025/03/Beautiful-Maryland-Bike-Trails-GAP-DRiegner-1.jpg
ORGANIZER;CN="Dave Hoag":MAILTO:bosshoag@gmail.com
END:VEVENT
END:VCALENDAR