BEGIN:VCALENDAR
VERSION:2.0
PRODID:-//Milwaukee Widows or Widowers (WOW) Club - ECPv6.15.20//NONSGML v1.0//EN
CALSCALE:GREGORIAN
METHOD:PUBLISH
X-WR-CALNAME:Milwaukee Widows or Widowers (WOW) Club
X-ORIGINAL-URL:https://www.milwwowclub.info
X-WR-CALDESC:Events for Milwaukee Widows or Widowers (WOW) Club
REFRESH-INTERVAL;VALUE=DURATION:PT1H
X-Robots-Tag:noindex
X-PUBLISHED-TTL:PT1H
BEGIN:VTIMEZONE
TZID:America/Chicago
BEGIN:DAYLIGHT
TZOFFSETFROM:-0600
TZOFFSETTO:-0500
TZNAME:CDT
DTSTART:20240310T080000
END:DAYLIGHT
BEGIN:STANDARD
TZOFFSETFROM:-0500
TZOFFSETTO:-0600
TZNAME:CST
DTSTART:20241103T070000
END:STANDARD
BEGIN:DAYLIGHT
TZOFFSETFROM:-0600
TZOFFSETTO:-0500
TZNAME:CDT
DTSTART:20250309T080000
END:DAYLIGHT
BEGIN:STANDARD
TZOFFSETFROM:-0500
TZOFFSETTO:-0600
TZNAME:CST
DTSTART:20251102T070000
END:STANDARD
BEGIN:DAYLIGHT
TZOFFSETFROM:-0600
TZOFFSETTO:-0500
TZNAME:CDT
DTSTART:20260308T080000
END:DAYLIGHT
BEGIN:STANDARD
TZOFFSETFROM:-0500
TZOFFSETTO:-0600
TZNAME:CST
DTSTART:20261101T070000
END:STANDARD
END:VTIMEZONE
BEGIN:VEVENT
DTSTART;TZID=America/Chicago:20250423T183000
DTEND;TZID=America/Chicago:20250423T213000
DTSTAMP:20260421T172128
CREATED:20240826T191349Z
LAST-MODIFIED:20250421T191245Z
UID:4351-1745433000-1745443800@www.milwwowclub.info
SUMMARY:General Meeting and Social Gathering
DESCRIPTION:Following the short meeting\, get set to enjoy the music and FUN of “TNT” – our very own\, latest & greatest DJ team\, Tim and Tony\, as they play the hits we all love to listen and dance to. In remembrance of our dear “Hat Lady” (Linda Boucher) our theme will be “In Your Easter Bonnet!” Ladies – wear your best Easter bonnets\, and guys – donn your coolest fedoras and join in on the Easter Parade fun! Anyone who’s game to kick it up a notch is urged to wear their favorite bunny costume or rabbit ears for the “Bunny Hop!” Members are encouraged to contribute easter treats to share (candy\, jelly beans\, etc). So “HOP” on over and have a great time! \n \nNOTE: Water is provided; other beverages may be purchased. The bar accepts cash only. There is an ATM is on site. \n\n(The General Membership Meeting occurs every fourth Wednesday\, and is open to all WOW members and their guests. Entertainment follows the meeting. There is a $10.00 fee for second time guests.)
URL:https://www.milwwowclub.info/event/general-meeting-and-social-gathering-15/
LOCATION:Hoeppner-Horn Bros VFW Post 5716\, 17980 W Beloit Rd\, New Berlin\, WI\, 53146
ATTACH;FMTTYPE=image/png:https://www.milwwowclub.info/wp-content/uploads/2024/08/Screenshot-2025-03-27-070645.png
END:VEVENT
BEGIN:VEVENT
DTSTART;TZID=America/Chicago:20250422T130000
DTEND;TZID=America/Chicago:20250422T153000
DTSTAMP:20260421T172128
CREATED:20250320T192909Z
LAST-MODIFIED:20250417T202249Z
UID:5076-1745326800-1745335800@www.milwwowclub.info
SUMMARY:Taco Tuesday & Bingo!
DESCRIPTION:Come and play some Bingo while enjoying Taco Tuesday with your WOW friends! Chicken or Beef Tacos are just $2.50 each. Or feel free to order off the lunch menu. PLEASE BE READY TO ORDER YOUR FOOD WHEN YOU CHECK IN WITH EVENT HOSTS. This will speed up the process and give us more time for Bingo. Bingo starts after 1:30 pm. Games are determined by number of players. Most games will be $1.00 per card; Maximum 3 cards; Last game $2/card\, max 2 cards/person. Contact Organizers with questions.
URL:https://www.milwwowclub.info/event/taco-tuesday-bingo-april-22-2025/
LOCATION:Bullwinkle’s at the Galleria\, 18900 W Bluemound Rd\, Brookfield\, WI\, 53045
ATTACH;FMTTYPE=image/jpeg:https://www.milwwowclub.info/wp-content/uploads/2025/02/PXL_20240826_122030416.MP2_.jpg
ORGANIZER;CN="Kim Korth":MAILTO:kimkorth.21@gmail.com
END:VEVENT
BEGIN:VEVENT
DTSTART;VALUE=DATE:20250420
DTEND;VALUE=DATE:20250421
DTSTAMP:20260421T172128
CREATED:20241013T071954Z
LAST-MODIFIED:20241013T071954Z
UID:4445-1745107200-1745193599@www.milwwowclub.info
SUMMARY:Easter
DESCRIPTION:
URL:https://www.milwwowclub.info/event/easter/
END:VEVENT
END:VCALENDAR